BEGIN:VCALENDAR
VERSION:2.0
PRODID:-//https://www.xn--h1aaafabldhkbrwa3l4c.xn--p1ai///NONSGML kigkonsult.se iCalcreator 2.10.15//
METHOD:PUBLISH
BEGIN:VEVENT
UID:20260424T080530MSK-6921XCC9OW@https://www.xn--h1aaafabldhkbrwa3l4c.xn--
 p1ai/
DTSTAMP:20260424T050530Z
DESCRIPTION:Тематическая программа «Дни детского кино» к Всемирному дню реб
 енка&nbsp\; https://www.xn--h1aaafabldhkbrwa3l4c.xn--p1ai/meropriyatiya/ka
 lendar-sobytij/event/337-tematicheskaya-programma-dni-detskogo-kino
DTSTART:20181119T071500Z
DTEND:20181123T091500Z
LOCATION:Республика Крым (Крым)
SUMMARY:Тематическая программа «Дни детского кино»
URL:https://www.xn--h1aaafabldhkbrwa3l4c.xn--p1ai/meropriyatiya/kalendar-so
 bytij/event/337-tematicheskaya-programma-dni-detskogo-kino
END:VEVENT
END:VCALENDAR
