BEGIN:VCALENDAR
VERSION:2.0
PRODID:-//https://www.xn--h1aaafabldhkbrwa3l4c.xn--p1ai///NONSGML kigkonsult.se iCalcreator 2.10.15//
METHOD:PUBLISH
BEGIN:VEVENT
UID:20260423T164923MSK-7960dMGf2F@https://www.xn--h1aaafabldhkbrwa3l4c.xn--
 p1ai/
DTSTAMP:20260423T134923Z
DESCRIPTION:Мастер-класс методистов КМЦ Куртбединовой М.Э. и Годорожа А.О. 
 по анимации https://www.xn--h1aaafabldhkbrwa3l4c.xn--p1ai/meropriyatiya/ka
 lendar-sobytij/event/443-master-klass-metodistov-kmts-kurtbedinovoj-m-e-i-
 godorozha-a-o-po-animatsii
DTSTART:20191115T113000Z
DTEND:20191115T133000Z
LOCATION:ГБУ РК 'Крымский киномедиацентр' (г. Симферополь\, ул. Крылова\, 3
 7)
SUMMARY:Мастер-класс методистов КМЦ Куртбединовой М.Э. и Годорожа А.О. по а
 нимации
URL:https://www.xn--h1aaafabldhkbrwa3l4c.xn--p1ai/meropriyatiya/kalendar-so
 bytij/event/443-master-klass-metodistov-kmts-kurtbedinovoj-m-e-i-godorozha
 -a-o-po-animatsii
END:VEVENT
END:VCALENDAR
