BEGIN:VCALENDAR
VERSION:2.0
PRODID:-//https://www.xn--h1aaafabldhkbrwa3l4c.xn--p1ai///NONSGML kigkonsult.se iCalcreator 2.10.15//
METHOD:PUBLISH
BEGIN:VEVENT
UID:20260423T164923MSK-7989Vs1wPN@https://www.xn--h1aaafabldhkbrwa3l4c.xn--
 p1ai/
DTSTAMP:20260423T134923Z
DESCRIPTION:Учреждениям культуры\, образовательным организациям будет предл
 ожена для просмотра и оценки программа конкурсных фильмов. (график показов
  будет представлен дополнительно) https://www.xn--h1aaafabldhkbrwa3l4c.xn-
 -p1ai/meropriyatiya/kalendar-sobytij/event/449-organizatsiya-i-provedenie-
 v-respublike-krym-pokazov-programmy-39-mezhdunarodnogo-studencheskogo-fest
 ivalya-vgik-posvyashchennogo-100-letiyu-instituta
DTSTART:20191111T092700Z
DTEND:20191114T112700Z
LOCATION:Республика Крым (Крым)
SUMMARY:Организация и проведение в Республике Крым показов программы 39 Меж
 дународного студенческого фестиваля ВГИК\, посвященного 100-летию институт
 а.
URL:https://www.xn--h1aaafabldhkbrwa3l4c.xn--p1ai/meropriyatiya/kalendar-so
 bytij/event/449-organizatsiya-i-provedenie-v-respublike-krym-pokazov-progr
 ammy-39-mezhdunarodnogo-studencheskogo-festivalya-vgik-posvyashchennogo-10
 0-letiyu-instituta
END:VEVENT
END:VCALENDAR
