BEGIN:VCALENDAR
VERSION:2.0
PRODID:-//https://www.xn--h1aaafabldhkbrwa3l4c.xn--p1ai///NONSGML kigkonsult.se iCalcreator 2.10.15//
METHOD:PUBLISH
BEGIN:VEVENT
UID:20260424T091822MSK-6704jRD1Dc@https://www.xn--h1aaafabldhkbrwa3l4c.xn--
 p1ai/
DTSTAMP:20260424T061822Z
DESCRIPTION:Проведение Всероссийского кинофестиваля\, посвященного укреплен
 ию межнационального единства народов Российской Федерации «Человек\, позна
 ющий мир»&nbsp\; https://www.xn--h1aaafabldhkbrwa3l4c.xn--p1ai/meropriyati
 ya/kalendar-sobytij/event/333-vserossijskij-kinofestival-chelovek-poznayus
 hchij-mir
DTSTART:20181106T065800Z
DTEND:20181110T195800Z
LOCATION:ГБУ РК 'Крымский киномедиацентр' (г. Симферополь\, ул. Крылова\, 3
 7)
SUMMARY:Всероссийский кинофестивал 'Человек\, познающий мир'
URL:https://www.xn--h1aaafabldhkbrwa3l4c.xn--p1ai/meropriyatiya/kalendar-so
 bytij/event/333-vserossijskij-kinofestival-chelovek-poznayushchij-mir
END:VEVENT
BEGIN:VEVENT
UID:20260424T091822MSK-6710G3tIS3@https://www.xn--h1aaafabldhkbrwa3l4c.xn--
 p1ai/
DTSTAMP:20260424T061822Z
DESCRIPTION:Тематическая кинопрограмма к Всемирному дню молодежи https://ww
 w.xn--h1aaafabldhkbrwa3l4c.xn--p1ai/meropriyatiya/kalendar-sobytij/event/3
 35-tematicheskaya-kinoprogramma-k-vsemirnomu-dnyu-molodezhi
DTSTART:20181101T070900Z
DTEND:20181110T090900Z
LOCATION:Республика Крым (Крым)
SUMMARY:Тематическая кинопрограмма к Всемирному дню молодежи
URL:https://www.xn--h1aaafabldhkbrwa3l4c.xn--p1ai/meropriyatiya/kalendar-so
 bytij/event/335-tematicheskaya-kinoprogramma-k-vsemirnomu-dnyu-molodezhi
END:VEVENT
END:VCALENDAR
