BEGIN:VCALENDAR
VERSION:2.0
PRODID:-//https://www.xn--h1aaafabldhkbrwa3l4c.xn--p1ai///NONSGML kigkonsult.se iCalcreator 2.10.15//
METHOD:PUBLISH
BEGIN:VEVENT
UID:20260423T164800MSK-8923KCDdWk@https://www.xn--h1aaafabldhkbrwa3l4c.xn--
 p1ai/
DTSTAMP:20260423T134800Z
DESCRIPTION:Сотрудники учреждения подготовят и разошлют программу фильмов д
 ля демонстрации в учреждениях культуры и образовательных организациях (кин
 оклубах) Республики Крым. https://www.xn--h1aaafabldhkbrwa3l4c.xn--p1ai/me
 ropriyatiya/kalendar-sobytij/event/448-tematicheskaya-kinoprogramma-k-vsem
 irnomu-dnyu-molodezhi-10-noyabrya
DTSTART:20191106T092300Z
DTEND:20191110T112300Z
LOCATION:Республика Крым (Крым)
SUMMARY:Тематическая кинопрограмма к Всемирному дню молодежи (10 ноября)
URL:https://www.xn--h1aaafabldhkbrwa3l4c.xn--p1ai/meropriyatiya/kalendar-so
 bytij/event/448-tematicheskaya-kinoprogramma-k-vsemirnomu-dnyu-molodezhi-1
 0-noyabrya
END:VEVENT
BEGIN:VEVENT
UID:20260423T164800MSK-8927JcSp96@https://www.xn--h1aaafabldhkbrwa3l4c.xn--
 p1ai/
DTSTAMP:20260423T134800Z
DESCRIPTION:6 ноября 2019 года в Таганроге пройдёт Международная научная ко
 нференция «Современное состояние медиаобразования в России в контексте мир
 овых тенденций»\, которая посвящена 65-летию почетного президента Ассоциац
 ии кинообразования и медиапедагогики России\, профессора А.В. Федорова htt
 ps://www.xn--h1aaafabldhkbrwa3l4c.xn--p1ai/meropriyatiya/kalendar-sobytij/
 event/455-mezhdunarodnaya-nauchnaya-konferentsiya-sovremennoe-sostoyanie-m
 ediaobrazovaniya-v-rossii-v-kontekste-mirovykh-tendentsij
DTSTART:20191106T063000Z
DTEND:20191106T083000Z
LOCATION:Таганрогский институт им. А. П. Чехова (Инициативная ул.\, 48\, Та
 ганрог\, Ростовская обл.\, Россия\, 347936)
SUMMARY:Международная научная конференция «Современное состояние медиаобраз
 ования в России в контексте мировых тенденций»
URL:https://www.xn--h1aaafabldhkbrwa3l4c.xn--p1ai/meropriyatiya/kalendar-so
 bytij/event/455-mezhdunarodnaya-nauchnaya-konferentsiya-sovremennoe-sostoy
 anie-mediaobrazovaniya-v-rossii-v-kontekste-mirovykh-tendentsij
END:VEVENT
END:VCALENDAR
