BEGIN:VCALENDAR
VERSION:2.0
PRODID:-//https://www.xn--h1aaafabldhkbrwa3l4c.xn--p1ai///NONSGML kigkonsult.se iCalcreator 2.10.15//
METHOD:PUBLISH
BEGIN:VEVENT
UID:20260423T164754MSK-6692i00McC@https://www.xn--h1aaafabldhkbrwa3l4c.xn--
 p1ai/
DTSTAMP:20260423T134754Z
DESCRIPTION:Сотрудники учреждения подготовят и разошлют программу фильмов д
 ля демонстрации в учреждениях культуры и образовательных организациях (кин
 оклубах) Республики Крым. https://www.xn--h1aaafabldhkbrwa3l4c.xn--p1ai/me
 ropriyatiya/kalendar-sobytij/event/437-tematicheskaya-programma-khudozhest
 vennykh-i-dokumentalnykh-filmov-ob-iskusstve-k-vserossijskoj-aktsii-noch-i
 skusstv
DTSTART:20191031T210000Z
DTEND:20191104T070900Z
LOCATION:Республика Крым (Крым)
SUMMARY:Тематическая программа художественных и документальных фильмов об и
 скусстве к Всероссийской акции «Ночь искусств»
URL:https://www.xn--h1aaafabldhkbrwa3l4c.xn--p1ai/meropriyatiya/kalendar-so
 bytij/event/437-tematicheskaya-programma-khudozhestvennykh-i-dokumentalnyk
 h-filmov-ob-iskusstve-k-vserossijskoj-aktsii-noch-iskusstv
END:VEVENT
BEGIN:VEVENT
UID:20260423T164754MSK-6695kW8Eun@https://www.xn--h1aaafabldhkbrwa3l4c.xn--
 p1ai/
DTSTAMP:20260423T134754Z
DESCRIPTION:Сотрудники учреждения подготовят программу документальных\, худ
 ожественных фильмов по теме для демонстрации в учреждениях культуры\, обра
 зовательных организациях и здравницах Республики Крым. https://www.xn--h1a
 aafabldhkbrwa3l4c.xn--p1ai/meropriyatiya/kalendar-sobytij/event/438-temati
 cheskaya-kinoprogramma-ko-dnyu-narodnogo-edinstva
DTSTART:20191101T071300Z
DTEND:20191105T091300Z
LOCATION:Республика Крым (Крым)
SUMMARY:Тематическая кинопрограмма ко Дню народного единства
URL:https://www.xn--h1aaafabldhkbrwa3l4c.xn--p1ai/meropriyatiya/kalendar-so
 bytij/event/438-tematicheskaya-kinoprogramma-ko-dnyu-narodnogo-edinstva
END:VEVENT
END:VCALENDAR
