BEGIN:VCALENDAR
VERSION:2.0
PRODID:-//https://www.xn--h1aaafabldhkbrwa3l4c.xn--p1ai///NONSGML kigkonsult.se iCalcreator 2.10.15//
METHOD:PUBLISH
BEGIN:VEVENT
UID:20260423T175925MSK-0002LjlUut@https://www.xn--h1aaafabldhkbrwa3l4c.xn--
 p1ai/
DTSTAMP:20260423T145924Z
DESCRIPTION: https://www.xn--h1aaafabldhkbrwa3l4c.xn--p1ai/meropriyatiya/ka
 lendar-sobytij/event/427-provedenie-vserossijskogo-kinofestivalya-chelovek
 -poznayushchij-mir
DTSTART:20191025T085300Z
DTEND:20191029T105300Z
LOCATION:Керчь (Керчь)
SUMMARY:Проведение Всероссийского кинофестиваля «Человек\, познающий мир» 
URL:https://www.xn--h1aaafabldhkbrwa3l4c.xn--p1ai/meropriyatiya/kalendar-so
 bytij/event/427-provedenie-vserossijskogo-kinofestivalya-chelovek-poznayus
 hchij-mir
END:VEVENT
END:VCALENDAR
