BEGIN:VCALENDAR
VERSION:2.0
PRODID:-//https://www.xn--h1aaafabldhkbrwa3l4c.xn--p1ai///NONSGML kigkonsult.se iCalcreator 2.10.15//
METHOD:PUBLISH
BEGIN:VEVENT
UID:20260424T091824MSK-219296oUoc@https://www.xn--h1aaafabldhkbrwa3l4c.xn--
 p1ai/
DTSTAMP:20260424T061824Z
DESCRIPTION:Семинар-тренинг «Организация работы школьного киноклуба. Методы
  работы с фильмом» для педагогов\, библиотекарей\, методистов ЦКС&nbsp\; h
 ttps://www.xn--h1aaafabldhkbrwa3l4c.xn--p1ai/meropriyatiya/kalendar-sobyti
 j/event/328-seminar-trening-organizatsiya-raboty-shkolnogo-kinokluba-metod
 y-raboty-s-filmom
DTSTART:20181013T100400Z
DTEND:20181013T120400Z
LOCATION:ГБУ РК 'Крымский киномедиацентр' (г. Симферополь\, ул. Крылова\, 3
 7)
SUMMARY:Семинар-тренинг «Организация работы школьного киноклуба. Методы раб
 оты с фильмом»
URL:https://www.xn--h1aaafabldhkbrwa3l4c.xn--p1ai/meropriyatiya/kalendar-so
 bytij/event/328-seminar-trening-organizatsiya-raboty-shkolnogo-kinokluba-m
 etody-raboty-s-filmom
END:VEVENT
END:VCALENDAR
