BEGIN:VCALENDAR
VERSION:2.0
PRODID:-//https://www.xn--h1aaafabldhkbrwa3l4c.xn--p1ai///NONSGML kigkonsult.se iCalcreator 2.10.15//
METHOD:PUBLISH
BEGIN:VEVENT
UID:20260423T175810MSK-6370vFf3V5@https://www.xn--h1aaafabldhkbrwa3l4c.xn--
 p1ai/
DTSTAMP:20260423T145810Z
DESCRIPTION:Мастер-класс по созданию видеопродукции методиста КМЦ Фоломеево
 й А.М.\nМАН «Искатель»\, ул. Гоголя\, 26. Начало в 15.00 https://www.xn--h
 1aaafabldhkbrwa3l4c.xn--p1ai/meropriyatiya/kalendar-sobytij/event/425-mast
 er-klass-po-sozdaniyu-videoproduktsii-metodista-krymskij-kinomediatsentr-f
 olomeevoj-a-m
DTSTART:20191008T120000Z
DTEND:20191008T133000Z
LOCATION:Малая Академия Наук «ИСКАТЕЛЬ» (26 ул. Гоголя\, Симферополь)
SUMMARY:Мастер-класс по созданию видеопродукции методиста 'Крымский киномед
 иацентр' Фоломеевой А.М.
URL:https://www.xn--h1aaafabldhkbrwa3l4c.xn--p1ai/meropriyatiya/kalendar-so
 bytij/event/425-master-klass-po-sozdaniyu-videoproduktsii-metodista-krymsk
 ij-kinomediatsentr-folomeevoj-a-m
END:VEVENT
END:VCALENDAR
