BEGIN:VCALENDAR
VERSION:2.0
PRODID:-//https://www.xn--h1aaafabldhkbrwa3l4c.xn--p1ai///NONSGML kigkonsult.se iCalcreator 2.10.15//
METHOD:PUBLISH
BEGIN:VEVENT
UID:20260424T091808MSK-8435MWOMmX@https://www.xn--h1aaafabldhkbrwa3l4c.xn--
 p1ai/
DTSTAMP:20260424T061808Z
DESCRIPTION:Тематическая программа к Международному дню учителя (5 октября)
  https://www.xn--h1aaafabldhkbrwa3l4c.xn--p1ai/meropriyatiya/kalendar-soby
 tij/event/327-tematicheskaya-programma-k-mezhdunarodnomu-dnyu-uchitelya
DTSTART:20181003T100200Z
DTEND:20181007T120200Z
LOCATION:Республика Крым (Крым)
SUMMARY:Тематическая программа к Международному дню учителя
URL:https://www.xn--h1aaafabldhkbrwa3l4c.xn--p1ai/meropriyatiya/kalendar-so
 bytij/event/327-tematicheskaya-programma-k-mezhdunarodnomu-dnyu-uchitelya
END:VEVENT
BEGIN:VEVENT
UID:20260424T091808MSK-8439FEJCs7@https://www.xn--h1aaafabldhkbrwa3l4c.xn--
 p1ai/
DTSTAMP:20260424T061808Z
DESCRIPTION:С 1 по 7 октября 2018 года г. Екатеринбург 29-й Открытый фестив
 аль документального кино «Россия» https://www.xn--h1aaafabldhkbrwa3l4c.xn-
 -p1ai/meropriyatiya/kalendar-sobytij/event/330-29-j-otkrytyj-festival-doku
 mentalnogo-kino-rossiya
DTSTART:20181001T070000Z
DTEND:20181007T190000Z
LOCATION:Екатеринбург\, ул. Генеральская\, 3 (Генеральская ул.\, 3\, Екатер
 инбург\, Свердловская обл.\, Россия\, 620062)
SUMMARY:29-й Открытый фестиваль документального кино «Россия»
URL:https://www.xn--h1aaafabldhkbrwa3l4c.xn--p1ai/meropriyatiya/kalendar-so
 bytij/event/330-29-j-otkrytyj-festival-dokumentalnogo-kino-rossiya
END:VEVENT
END:VCALENDAR
