BEGIN:VCALENDAR
VERSION:2.0
PRODID:-//https://www.xn--h1aaafabldhkbrwa3l4c.xn--p1ai///NONSGML kigkonsult.se iCalcreator 2.10.15//
METHOD:PUBLISH
BEGIN:VEVENT
UID:20260423T175813MSK-34392k1ZbD@https://www.xn--h1aaafabldhkbrwa3l4c.xn--
 p1ai/
DTSTAMP:20260423T145813Z
DESCRIPTION:Тематическая кинопрограмма к Международному дню музыки\n&nbsp\;
 Сотрудники учреждения подготовят и разошлют программу фильмов для демонстр
 ации в учреждениях культуры и образовательных организациях (киноклубах) Ре
 спублики Крым https://www.xn--h1aaafabldhkbrwa3l4c.xn--p1ai/meropriyatiya/
 kalendar-sobytij/event/422-tematicheskaya-kinoprogramma-k-mezhdunarodnomu-
 dnyu-muzyki
DTSTART:20191001T083700Z
DTEND:20191005T103700Z
LOCATION:Республика Крым (Крым)
SUMMARY:Тематическая кинопрограмма к Международному дню музыки
URL:https://www.xn--h1aaafabldhkbrwa3l4c.xn--p1ai/meropriyatiya/kalendar-so
 bytij/event/422-tematicheskaya-kinoprogramma-k-mezhdunarodnomu-dnyu-muzyki
END:VEVENT
BEGIN:VEVENT
UID:20260423T175813MSK-3443uMgS9c@https://www.xn--h1aaafabldhkbrwa3l4c.xn--
 p1ai/
DTSTAMP:20260423T145813Z
DESCRIPTION:Тематическая кинопрограмма к Международному дню учителя (5 октя
 бря)\nСотрудники учреждения подготовят программу фильмов по теме для демон
 страции в учреждениях культуры и образовательных организациях Республики К
 рым https://www.xn--h1aaafabldhkbrwa3l4c.xn--p1ai/meropriyatiya/kalendar-s
 obytij/event/423-tematicheskaya-kinoprogramma-k-mezhdunarodnomu-dnyu-uchit
 elya
DTSTART:20191003T083800Z
DTEND:20191006T103800Z
LOCATION:Республика Крым (Крым)
SUMMARY:Тематическая кинопрограмма к Международному дню учителя 
URL:https://www.xn--h1aaafabldhkbrwa3l4c.xn--p1ai/meropriyatiya/kalendar-so
 bytij/event/423-tematicheskaya-kinoprogramma-k-mezhdunarodnomu-dnyu-uchite
 lya
END:VEVENT
END:VCALENDAR
