BEGIN:VCALENDAR
VERSION:2.0
PRODID:-//https://www.xn--h1aaafabldhkbrwa3l4c.xn--p1ai///NONSGML kigkonsult.se iCalcreator 2.10.15//
METHOD:PUBLISH
BEGIN:VEVENT
UID:20260424T103603MSK-2415AGtdVc@https://www.xn--h1aaafabldhkbrwa3l4c.xn--
 p1ai/
DTSTAMP:20260424T073603Z
DESCRIPTION:Тематическая кинопрограмма к 100-летию организации ВГИК\nВ рамк
 ах празднования юбилея в Крымском киномедиацентре\, в образовательных орга
 низациях Республики Крым будут проводиться тематические заседания киноклоу
 бов\, творческие встречи\, тематические кинопоказы\, презентации&nbsp\; ht
 tps://www.xn--h1aaafabldhkbrwa3l4c.xn--p1ai/meropriyatiya/kalendar-sobytij
 /event/324-kinoprogramma-k-100-letiyu-organizatsii-vgik
DTSTART:20180901T095400Z
DTEND:20180930T115400Z
LOCATION:Республика Крым (Крым)
SUMMARY:Кинопрограмма к 100-летию организации ВГИК
URL:https://www.xn--h1aaafabldhkbrwa3l4c.xn--p1ai/meropriyatiya/kalendar-so
 bytij/event/324-kinoprogramma-k-100-letiyu-organizatsii-vgik
END:VEVENT
END:VCALENDAR
