BEGIN:VCALENDAR
VERSION:2.0
PRODID:-//https://www.xn--h1aaafabldhkbrwa3l4c.xn--p1ai///NONSGML kigkonsult.se iCalcreator 2.10.15//
METHOD:PUBLISH
BEGIN:VEVENT
UID:20260423T191829MSK-0091Us8oUD@https://www.xn--h1aaafabldhkbrwa3l4c.xn--
 p1ai/
DTSTAMP:20260423T161829Z
DESCRIPTION:III Открытый фестиваль детского и семейного кино «Солнечный ост
 ров» https://www.xn--h1aaafabldhkbrwa3l4c.xn--p1ai/meropriyatiya/kalendar-
 sobytij/event/411-iii-otkrytyj-festival-detskogo-i-semejnogo-kino-solnechn
 yj-ostrov
DTSTART:20190831T070900Z
DTEND:20190905T090900Z
LOCATION:Евпатория (Театральная пл.\, Евпатория)
SUMMARY:III Открытый фестиваль детского и семейного кино «Солнечный остров»
  
URL:https://www.xn--h1aaafabldhkbrwa3l4c.xn--p1ai/meropriyatiya/kalendar-so
 bytij/event/411-iii-otkrytyj-festival-detskogo-i-semejnogo-kino-solnechnyj
 -ostrov
END:VEVENT
BEGIN:VEVENT
UID:20260423T191829MSK-00945a6mbc@https://www.xn--h1aaafabldhkbrwa3l4c.xn--
 p1ai/
DTSTAMP:20260423T161829Z
DESCRIPTION:Организация тематической кинопрограммы «Здравствуй\, школа!» к 
 Дню знаний.\nСотрудники учреждения подготовят и разошлют программу фильмов
  для демонстрации в учреждениях культуры и образовательных организациях (к
 иноклубах) Республики Крым. https://www.xn--h1aaafabldhkbrwa3l4c.xn--p1ai/
 meropriyatiya/kalendar-sobytij/event/413-tematicheskaya-kinoprogramma-zdra
 vstvuj-shkola-k-dnyu-znanij
DTSTART:20190901T062800Z
DTEND:20190904T082800Z
LOCATION:Республика Крым (Крым)
SUMMARY:Тематическая кинопрограмма «Здравствуй\, школа!» к Дню знаний.
URL:https://www.xn--h1aaafabldhkbrwa3l4c.xn--p1ai/meropriyatiya/kalendar-so
 bytij/event/413-tematicheskaya-kinoprogramma-zdravstvuj-shkola-k-dnyu-znan
 ij
END:VEVENT
BEGIN:VEVENT
UID:20260423T191829MSK-0096kwHDOK@https://www.xn--h1aaafabldhkbrwa3l4c.xn--
 p1ai/
DTSTAMP:20260423T161829Z
DESCRIPTION:Организация кинопоказов фильмов по теме Дня солидарности в борь
 бе с терроризмом. (Связана с трагическими событиями в Беслане)\nСотрудники
  учреждения подготовят и разошлют программу фильмов для демонстрации в учр
 еждениях культуры и образовательных организациях (киноклубах) Республики К
 рым. https://www.xn--h1aaafabldhkbrwa3l4c.xn--p1ai/meropriyatiya/kalendar-
 sobytij/event/414-kinopokaz-filmov-po-teme-dnya-solidarnosti-v-borbe-s-ter
 rorizmom
DTSTART:20190901T063200Z
DTEND:20190904T083200Z
LOCATION:Республика Крым (Крым)
SUMMARY:Кинопоказ фильмов по теме Дня солидарности в борьбе с терроризмом
URL:https://www.xn--h1aaafabldhkbrwa3l4c.xn--p1ai/meropriyatiya/kalendar-so
 bytij/event/414-kinopokaz-filmov-po-teme-dnya-solidarnosti-v-borbe-s-terro
 rizmom
END:VEVENT
END:VCALENDAR
