BEGIN:VCALENDAR
VERSION:2.0
PRODID:-//https://www.xn--h1aaafabldhkbrwa3l4c.xn--p1ai///NONSGML kigkonsult.se iCalcreator 2.10.15//
METHOD:PUBLISH
BEGIN:VEVENT
UID:20260423T204505MSK-0403BAjeJ1@https://www.xn--h1aaafabldhkbrwa3l4c.xn--
 p1ai/
DTSTAMP:20260423T174505Z
DESCRIPTION:Тематическая программа «Молодежь на экране» к Международному дн
 ю молодежи https://www.xn--h1aaafabldhkbrwa3l4c.xn--p1ai/meropriyatiya/kal
 endar-sobytij/event/409-tematicheskaya-programma-molodezh-na-ekrane-k-mezh
 dunarodnomu-dnyu-molodezhi
DTSTART:20190812T070000Z
DTEND:20190817T090000Z
LOCATION:Республика Крым (Крым)
SUMMARY:Тематическая программа «Молодежь на экране» к Международному дню мо
 лодежи
URL:https://www.xn--h1aaafabldhkbrwa3l4c.xn--p1ai/meropriyatiya/kalendar-so
 bytij/event/409-tematicheskaya-programma-molodezh-na-ekrane-k-mezhdunarodn
 omu-dnyu-molodezhi
END:VEVENT
END:VCALENDAR
