BEGIN:VCALENDAR
VERSION:2.0
PRODID:-//https://www.xn--h1aaafabldhkbrwa3l4c.xn--p1ai///NONSGML kigkonsult.se iCalcreator 2.10.15//
METHOD:PUBLISH
BEGIN:VEVENT
UID:20260423T204506MSK-5736fi0mbK@https://www.xn--h1aaafabldhkbrwa3l4c.xn--
 p1ai/
DTSTAMP:20260423T174506Z
DESCRIPTION:Проведение мастер-классов по кинорежиссуре и анимации в детском
  оздоровительном лагере «Алые паруса»\, Евпатория\, в рамках киносмены для
  обучающихся школьных киноклубов\, видео- и анимационных кружков\, студий 
 образовательных организаций Республики Крым https://www.xn--h1aaafabldhkbr
 wa3l4c.xn--p1ai/meropriyatiya/kalendar-sobytij/event/408-master-klassy-po-
 kinorezhissure-i-animatsii-v-detskom-ozdorovitelnom-lagere-alye-parusa-v-e
 vpatorii
DTSTART:20190801T065200Z
DTEND:20190805T085200Z
LOCATION:Евпатория (Театральная пл.\, Евпатория)
SUMMARY:Мастер-классы по кинорежиссуре и анимации в детском оздоровительном
  лагере «Алые паруса» в Евпатории
URL:https://www.xn--h1aaafabldhkbrwa3l4c.xn--p1ai/meropriyatiya/kalendar-so
 bytij/event/408-master-klassy-po-kinorezhissure-i-animatsii-v-detskom-ozdo
 rovitelnom-lagere-alye-parusa-v-evpatorii
END:VEVENT
END:VCALENDAR
