BEGIN:VCALENDAR
VERSION:2.0
PRODID:-//https://www.xn--h1aaafabldhkbrwa3l4c.xn--p1ai///NONSGML kigkonsult.se iCalcreator 2.10.15//
METHOD:PUBLISH
BEGIN:VEVENT
UID:20260423T220244MSK-0762COtZ11@https://www.xn--h1aaafabldhkbrwa3l4c.xn--
 p1ai/
DTSTAMP:20260423T190244Z
DESCRIPTION:Проведение мастер-классов по кинорежиссуре и анимации в детском
 оздоровительном лагере «Алые паруса»\, Евпатория\, в рамках киносменыдля о
 бучающихся школьных киноклубов\, видео- и анимационныхкружков\, студий обр
 азовательных организаций Республики Крым https://www.xn--h1aaafabldhkbrwa3
 l4c.xn--p1ai/meropriyatiya/kalendar-sobytij/event/406-provedenie-master-kl
 assov-po-kinorezhissure-i-animatsii-v-detskom-ozdorovitelnom-lagere-alye-p
 arusa
DTSTART:20190715T055200Z
DTEND:20190731T075200Z
LOCATION:Евпатория (Театральная пл.\, Евпатория)
SUMMARY:Проведение мастер-классов по кинорежиссуре и анимации в детском озд
 оровительном лагере «Алые паруса»
URL:https://www.xn--h1aaafabldhkbrwa3l4c.xn--p1ai/meropriyatiya/kalendar-so
 bytij/event/406-provedenie-master-klassov-po-kinorezhissure-i-animatsii-v-
 detskom-ozdorovitelnom-lagere-alye-parusa
END:VEVENT
END:VCALENDAR
