BEGIN:VCALENDAR
VERSION:2.0
PRODID:-//https://www.xn--h1aaafabldhkbrwa3l4c.xn--p1ai///NONSGML kigkonsult.se iCalcreator 2.10.15//
METHOD:PUBLISH
BEGIN:VEVENT
UID:20260423T231802MSK-11328Xcsog@https://www.xn--h1aaafabldhkbrwa3l4c.xn--
 p1ai/
DTSTAMP:20260423T201802Z
DESCRIPTION: https://www.xn--h1aaafabldhkbrwa3l4c.xn--p1ai/meropriyatiya/ka
 lendar-sobytij/event/401-viii-krymskaya-mediashkola-sovmestno-s-mezhdunaro
 dnym-kinofestivalem-my-sami-snimaem-kino
DTSTART:20190625T080100Z
DTEND:20190627T100100Z
LOCATION:Малая Академия Наук «ИСКАТЕЛЬ» (26 ул. Гоголя\, Симферополь)
SUMMARY:VIII Крымская медиашкола совместно с международным кинофестивалем «
 Мы сами снимаем кино»
URL:https://www.xn--h1aaafabldhkbrwa3l4c.xn--p1ai/meropriyatiya/kalendar-so
 bytij/event/401-viii-krymskaya-mediashkola-sovmestno-s-mezhdunarodnym-kino
 festivalem-my-sami-snimaem-kino
END:VEVENT
BEGIN:VEVENT
UID:20260423T231802MSK-1136UxJ1dd@https://www.xn--h1aaafabldhkbrwa3l4c.xn--
 p1ai/
DTSTAMP:20260423T201802Z
DESCRIPTION: https://www.xn--h1aaafabldhkbrwa3l4c.xn--p1ai/meropriyatiya/ka
 lendar-sobytij/event/404-organizatsiya-tematicheskikh-pokazov-k-pamyatnoj-
 date-rossii-den-partizan-i-podpolshchikov
DTSTART:20190627T080500Z
DTEND:20190630T100500Z
LOCATION:Республика Крым (Крым)
SUMMARY:Организация тематических показов к памятной дате России - День парт
 изан и подпольщиков
URL:https://www.xn--h1aaafabldhkbrwa3l4c.xn--p1ai/meropriyatiya/kalendar-so
 bytij/event/404-organizatsiya-tematicheskikh-pokazov-k-pamyatnoj-date-ross
 ii-den-partizan-i-podpolshchikov
END:VEVENT
END:VCALENDAR
