BEGIN:VCALENDAR
VERSION:2.0
PRODID:-//https://www.xn--h1aaafabldhkbrwa3l4c.xn--p1ai///NONSGML kigkonsult.se iCalcreator 2.10.15//
METHOD:PUBLISH
BEGIN:VEVENT
UID:20260419T150814MSK-1395FT1CeB@https://www.xn--h1aaafabldhkbrwa3l4c.xn--
 p1ai/
DTSTAMP:20260419T120814Z
DESCRIPTION:Марафон кинофильмов «Великое кино – Великой страны» о Великой О
 течественной войне 1941-1945 годов в рамках киноэстафеты памяти «Помнит ми
 р спасенный в День Победы Советского Союза над фашистской Германией в Вели
 кой Отечественной войне (1941-1945)».\nСотрудники учреждения подготовят пр
 ограмму игровых и документальных фильмов для демонстрации в учреждениях ку
 льтуры\, образовательных организациях Республики Крым. https://www.xn--h1a
 aafabldhkbrwa3l4c.xn--p1ai/meropriyatiya/kalendar-sobytij/event/537-marafo
 n-kinofilmov-velikoe-kino-velikoj-strany
DTSTART:20200619T070000Z
DTEND:20200623T090000Z
LOCATION:Республика Крым (Крым)
SUMMARY:Марафон кинофильмов «Великое кино – Великой страны» 
URL:https://www.xn--h1aaafabldhkbrwa3l4c.xn--p1ai/meropriyatiya/kalendar-so
 bytij/event/537-marafon-kinofilmov-velikoe-kino-velikoj-strany
END:VEVENT
BEGIN:VEVENT
UID:20260419T150814MSK-1399HlUkdu@https://www.xn--h1aaafabldhkbrwa3l4c.xn--
 p1ai/
DTSTAMP:20260419T120814Z
DESCRIPTION:Ретроспективный показ фильмов с участием народной артистки РСФС
 Р Светланы Крючковой к 70-летию со дня рождения (22 июня)\nСотрудники учре
 ждения подготовят и разошлют программу фильмов с участием актрисы для демо
 нстрации в учреждениях культуры и образовательных организациях (киноклубах
 ) Республики Крым. https://www.xn--h1aaafabldhkbrwa3l4c.xn--p1ai/meropriya
 tiya/kalendar-sobytij/event/542-retrospektivnyj-pokaz-filmov-s-uchastiem-n
 arodnoj-artistki-rsfsr-svetlany-kryuchkovoj-k-70-letiyu-so-dnya-rozhdeniya
 -22-iyunya
DTSTART:20200622T070000Z
DTEND:20200622T090000Z
LOCATION:Республика Крым (Крым)
SUMMARY:Ретроспективный показ фильмов с участием народной артистки РСФСР Св
 етланы Крючковой к 70-летию со дня рождения (22 июня)
URL:https://www.xn--h1aaafabldhkbrwa3l4c.xn--p1ai/meropriyatiya/kalendar-so
 bytij/event/542-retrospektivnyj-pokaz-filmov-s-uchastiem-narodnoj-artistki
 -rsfsr-svetlany-kryuchkovoj-k-70-letiyu-so-dnya-rozhdeniya-22-iyunya
END:VEVENT
BEGIN:VEVENT
UID:20260419T150814MSK-1402zkDufp@https://www.xn--h1aaafabldhkbrwa3l4c.xn--
 p1ai/
DTSTAMP:20260419T120814Z
DESCRIPTION:С 6 по 20 июня в Крыму проедет&nbsp\;Крымский открытый фестивал
 ь детско-юношеской любительской анимации «ЧУДО-ОСТРОВ»!\n23 июня - Закрыти
 е фестиваля!\nОрганизаторы фестиваля: Государственное бюджетное учреждение
  Республики Крым «Крымский киномедиацентр»\, Ассоциация кинообразования и 
 медиапедагогики России\, Крымское отделение Союза кинематографистов Россий
 ской Федерации\, при содействии Комиссии анимационного кино Союза кинемато
 графистов России.\n&nbsp\; https://www.xn--h1aaafabldhkbrwa3l4c.xn--p1ai/m
 eropriyatiya/kalendar-sobytij/event/545-krymskij-otkrytyj-festival-detsko-
 yunosheskoj-lyubitelskoj-animatsii-chudo-ostrov
DTSTART:20200606T070000Z
DTEND:20200623T170000Z
LOCATION:Республика Крым (Крым)
SUMMARY:Крымский открытый фестиваль детско-юношеской любительской анимации 
 «ЧУДО-ОСТРОВ»!
URL:https://www.xn--h1aaafabldhkbrwa3l4c.xn--p1ai/meropriyatiya/kalendar-so
 bytij/event/545-krymskij-otkrytyj-festival-detsko-yunosheskoj-lyubitelskoj
 -animatsii-chudo-ostrov
END:VEVENT
END:VCALENDAR
