BEGIN:VCALENDAR
VERSION:2.0
PRODID:-//https://www.xn--h1aaafabldhkbrwa3l4c.xn--p1ai///NONSGML kigkonsult.se iCalcreator 2.10.15//
METHOD:PUBLISH
BEGIN:VEVENT
UID:20260419T150705MSK-5176XILIAF@https://www.xn--h1aaafabldhkbrwa3l4c.xn--
 p1ai/
DTSTAMP:20260419T120705Z
DESCRIPTION:Межрегиональная конференция по кинообразованию и медиапедагогик
 е совместно с Ассоциацией кинообразования и медиапедагогики России. https:
 //www.xn--h1aaafabldhkbrwa3l4c.xn--p1ai/meropriyatiya/kalendar-sobytij/eve
 nt/536-mezhregionalnaya-konferentsiya-po-kinoobrazovaniyu-i-mediapedagogik
 e
DTSTART;VALUE=DATE:20200618
LOCATION:ГБУ РК 'Крымский киномедиацентр' (г. Симферополь\, ул. Крылова\, 3
 7)
SUMMARY:Межрегиональная конференция по кинообразованию и медиапедагогике 
URL:https://www.xn--h1aaafabldhkbrwa3l4c.xn--p1ai/meropriyatiya/kalendar-so
 bytij/event/536-mezhregionalnaya-konferentsiya-po-kinoobrazovaniyu-i-media
 pedagogike
END:VEVENT
BEGIN:VEVENT
UID:20260419T150705MSK-5182oItO95@https://www.xn--h1aaafabldhkbrwa3l4c.xn--
 p1ai/
DTSTAMP:20260419T120705Z
DESCRIPTION:С 6 по 20 июня в Крыму проедет&nbsp\;Крымский открытый фестивал
 ь детско-юношеской любительской анимации «ЧУДО-ОСТРОВ»!\n23 июня - Закрыти
 е фестиваля!\nОрганизаторы фестиваля: Государственное бюджетное учреждение
  Республики Крым «Крымский киномедиацентр»\, Ассоциация кинообразования и 
 медиапедагогики России\, Крымское отделение Союза кинематографистов Россий
 ской Федерации\, при содействии Комиссии анимационного кино Союза кинемато
 графистов России.\n&nbsp\; https://www.xn--h1aaafabldhkbrwa3l4c.xn--p1ai/m
 eropriyatiya/kalendar-sobytij/event/545-krymskij-otkrytyj-festival-detsko-
 yunosheskoj-lyubitelskoj-animatsii-chudo-ostrov
DTSTART:20200606T070000Z
DTEND:20200623T170000Z
LOCATION:Республика Крым (Крым)
SUMMARY:Крымский открытый фестиваль детско-юношеской любительской анимации 
 «ЧУДО-ОСТРОВ»!
URL:https://www.xn--h1aaafabldhkbrwa3l4c.xn--p1ai/meropriyatiya/kalendar-so
 bytij/event/545-krymskij-otkrytyj-festival-detsko-yunosheskoj-lyubitelskoj
 -animatsii-chudo-ostrov
END:VEVENT
END:VCALENDAR
