BEGIN:VCALENDAR
VERSION:2.0
PRODID:-//https://www.xn--h1aaafabldhkbrwa3l4c.xn--p1ai///NONSGML kigkonsult.se iCalcreator 2.10.15//
METHOD:PUBLISH
BEGIN:VEVENT
UID:20260423T231725MSK-0969G3BNLv@https://www.xn--h1aaafabldhkbrwa3l4c.xn--
 p1ai/
DTSTAMP:20260423T201725Z
DESCRIPTION:Организация мероприятий\, посвященных Пушкинскому дню России&nb
 sp\;в рамках XIII Международного фестиваля «Великое русское слово».\nКиноп
 раздник «Пушкинские дни России» - проведение кинопросмотров экранизаций пр
 оизведений А. С. Пушкина в Крымском киномедиацентре. https://www.xn--h1aaa
 fabldhkbrwa3l4c.xn--p1ai/meropriyatiya/kalendar-sobytij/event/397-kinopraz
 dnik-pushkinskie-dni-rossii-provedenie-kinoprosmotrov-ekranizatsij-proizve
 denij-a-s-pushkina-v-krymskom-kinomediatsentre
DTSTART:20190604T071500Z
DTEND:20190607T091500Z
LOCATION:ГБУ РК 'Крымский киномедиацентр' (г. Симферополь\, ул. Крылова\, 3
 7)
SUMMARY:Кинопраздник «Пушкинские дни России» - проведение кинопросмотров эк
 ранизаций произведений А. С. Пушкина в Крымском киномедиацентре
URL:https://www.xn--h1aaafabldhkbrwa3l4c.xn--p1ai/meropriyatiya/kalendar-so
 bytij/event/397-kinoprazdnik-pushkinskie-dni-rossii-provedenie-kinoprosmot
 rov-ekranizatsij-proizvedenij-a-s-pushkina-v-krymskom-kinomediatsentre
END:VEVENT
BEGIN:VEVENT
UID:20260423T231725MSK-0973uK3Xvt@https://www.xn--h1aaafabldhkbrwa3l4c.xn--
 p1ai/
DTSTAMP:20260423T201725Z
DESCRIPTION:Крымский открытый фестиваль детского анимационного кино «Чудо-о
 стров»\n&nbsp\;Организация показов на летних оздоровительных площадках и в
  учреждениях культуры Республики Крым программы анимационных фильмов\, соз
 данных на детских студиях России и за рубежом.\nАнимационные мастер-классы
  в Симферополе и Ялте по уличной анимации. (программа фестиваля будет опуб
 ликована на сайте учреждения) https://www.xn--h1aaafabldhkbrwa3l4c.xn--p1a
 i/meropriyatiya/kalendar-sobytij/event/399-krymskij-otkrytyj-festival-dets
 kogo-animatsionnogo-kino-chudo-ostrov
DTSTART:20190607T075500Z
DTEND:20190617T095500Z
LOCATION:Республика Крым (Крым)
SUMMARY:Крымский открытый фестиваль детского анимационного кино «Чудо-остро
 в»
URL:https://www.xn--h1aaafabldhkbrwa3l4c.xn--p1ai/meropriyatiya/kalendar-so
 bytij/event/399-krymskij-otkrytyj-festival-detskogo-animatsionnogo-kino-ch
 udo-ostrov
END:VEVENT
END:VCALENDAR
