BEGIN:VCALENDAR
VERSION:2.0
PRODID:-//https://www.xn--h1aaafabldhkbrwa3l4c.xn--p1ai///NONSGML kigkonsult.se iCalcreator 2.10.15//
METHOD:PUBLISH
BEGIN:VEVENT
UID:20260419T164121MSK-0369FaAcFk@https://www.xn--h1aaafabldhkbrwa3l4c.xn--
 p1ai/
DTSTAMP:20260419T134121Z
DESCRIPTION:Подведение итогов VII Международного конкурса рецензий и эссе н
 а заданный фильм «По ту сторону экрана». https://www.xn--h1aaafabldhkbrwa3
 l4c.xn--p1ai/meropriyatiya/kalendar-sobytij/event/526-podvedenie-itogov-vi
 i-mezhdunarodnogo-konkursa-retsenzij-i-esse-na-zadannyj-film-po-tu-storonu
 -ekrana
DTSTART;VALUE=DATE:20200531
LOCATION:ГБУ РК 'Крымский киномедиацентр' (г. Симферополь\, ул. Крылова\, 3
 7)
SUMMARY:Подведение итогов VII Международного конкурса рецензий и эссе на за
 данный фильм «По ту сторону экрана».
URL:https://www.xn--h1aaafabldhkbrwa3l4c.xn--p1ai/meropriyatiya/kalendar-so
 bytij/event/526-podvedenie-itogov-vii-mezhdunarodnogo-konkursa-retsenzij-i
 -esse-na-zadannyj-film-po-tu-storonu-ekrana
END:VEVENT
BEGIN:VEVENT
UID:20260419T164121MSK-03735KMLMK@https://www.xn--h1aaafabldhkbrwa3l4c.xn--
 p1ai/
DTSTAMP:20260419T134121Z
DESCRIPTION:Киногостиная «Настоящие ковбои Клинта Иствуда» и&nbsp\;\nРетрос
 пективный показ фильмов выдающегося актера\, режиссера\, продюсера Клинта 
 Иствуда к 90-летию со дня рождения (31 мая)\nСотрудники учреждения подгото
 вят и разошлют программу фильмов с участием актера для демонстрации в учре
 ждениях культуры и образовательных организациях (киноклубах) Республики Кр
 ым https://www.xn--h1aaafabldhkbrwa3l4c.xn--p1ai/meropriyatiya/kalendar-so
 bytij/event/530-kinogostinaya-nastoyashchie-kovboi-klinta-istvuda
DTSTART;VALUE=DATE:20200531
LOCATION:ГБУ РК 'Крымский киномедиацентр' (г. Симферополь\, ул. Крылова\, 3
 7)
SUMMARY:Киногостиная «Настоящие ковбои Клинта Иствуда»
URL:https://www.xn--h1aaafabldhkbrwa3l4c.xn--p1ai/meropriyatiya/kalendar-so
 bytij/event/530-kinogostinaya-nastoyashchie-kovboi-klinta-istvuda
END:VEVENT
END:VCALENDAR
