BEGIN:VCALENDAR
VERSION:2.0
PRODID:-//https://www.xn--h1aaafabldhkbrwa3l4c.xn--p1ai///NONSGML kigkonsult.se iCalcreator 2.10.15//
METHOD:PUBLISH
BEGIN:VEVENT
UID:20260424T003057MSK-1884IWRaIs@https://www.xn--h1aaafabldhkbrwa3l4c.xn--
 p1ai/
DTSTAMP:20260423T213057Z
DESCRIPTION:Тематическая программа «Венок славянских киносказок» к Дню слав
 янской&nbsp\;культуры и письменности https://www.xn--h1aaafabldhkbrwa3l4c.
 xn--p1ai/meropriyatiya/kalendar-sobytij/event/395-tematicheskaya-programma
 -venok-slavyanskikh-kinoskazok-k-dnyu-slavyanskoj-kultury-i-pismennosti
DTSTART:20190520T072100Z
DTEND:20190525T092100Z
LOCATION:Республика Крым (Крым)
SUMMARY:Тематическая программа «Венок славянских киносказок» к Дню славянск
 ой  культуры и письменности
URL:https://www.xn--h1aaafabldhkbrwa3l4c.xn--p1ai/meropriyatiya/kalendar-so
 bytij/event/395-tematicheskaya-programma-venok-slavyanskikh-kinoskazok-k-d
 nyu-slavyanskoj-kultury-i-pismennosti
END:VEVENT
END:VCALENDAR
