BEGIN:VCALENDAR
VERSION:2.0
PRODID:-//https://www.xn--h1aaafabldhkbrwa3l4c.xn--p1ai///NONSGML kigkonsult.se iCalcreator 2.10.15//
METHOD:PUBLISH
BEGIN:VEVENT
UID:20260419T164120MSK-5223p2TMiz@https://www.xn--h1aaafabldhkbrwa3l4c.xn--
 p1ai/
DTSTAMP:20260419T134120Z
DESCRIPTION:Семинар-практикум «Практическое кино- и медиаобразование. Разви
 тие критического мышления»\n- Работа с фильмом в киноклуб: методическая ра
 зработка с практическими советами.\n- Мастер-класс «Основы анимационных те
 хник для педагогов https://www.xn--h1aaafabldhkbrwa3l4c.xn--p1ai/meropriya
 tiya/kalendar-sobytij/event/522-seminar-praktikum-prakticheskoe-kino-i-med
 iaobrazovanie-razvitie-kriticheskogo-myshleniya
DTSTART;VALUE=DATE:20200523
LOCATION:ГБУ РК 'Крымский киномедиацентр' (г. Симферополь\, ул. Крылова\, 3
 7)
SUMMARY:Семинар-практикум «Практическое кино- и медиаобразование. Развитие 
 критического мышления»
URL:https://www.xn--h1aaafabldhkbrwa3l4c.xn--p1ai/meropriyatiya/kalendar-so
 bytij/event/522-seminar-praktikum-prakticheskoe-kino-i-mediaobrazovanie-ra
 zvitie-kriticheskogo-myshleniya
END:VEVENT
BEGIN:VEVENT
UID:20260419T164120MSK-5227pN0MP2@https://www.xn--h1aaafabldhkbrwa3l4c.xn--
 p1ai/
DTSTAMP:20260419T134120Z
DESCRIPTION:Тематическая кинопрограмма экранизаций сказок в рамках Дней сла
 вянской культуры и письменности.\n&nbsp\;Сотрудники учреждения подготовят 
 программу игровых и анимационных фильмов для демонстрации в учреждениях ку
 льтуры\, образовательных организациях Республики Крым. https://www.xn--h1a
 aafabldhkbrwa3l4c.xn--p1ai/meropriyatiya/kalendar-sobytij/event/523-temati
 cheskaya-kinoprogramma-ekranizatsij-skazok-v-ramkakh-dnej-slavyanskoj-kult
 ury-i-pismennosti
DTSTART:20200522T070000Z
DTEND:20200530T170000Z
LOCATION:ГБУ РК 'Крымский киномедиацентр' (г. Симферополь\, ул. Крылова\, 3
 7)
SUMMARY:Тематическая кинопрограмма экранизаций сказок в рамках Дней славянс
 кой культуры и письменности.
URL:https://www.xn--h1aaafabldhkbrwa3l4c.xn--p1ai/meropriyatiya/kalendar-so
 bytij/event/523-tematicheskaya-kinoprogramma-ekranizatsij-skazok-v-ramkakh
 -dnej-slavyanskoj-kultury-i-pismennosti
END:VEVENT
END:VCALENDAR
