BEGIN:VCALENDAR
VERSION:2.0
PRODID:-//https://www.xn--h1aaafabldhkbrwa3l4c.xn--p1ai///NONSGML kigkonsult.se iCalcreator 2.10.15//
METHOD:PUBLISH
BEGIN:VEVENT
UID:20260419T164213MSK-66620XOPN8@https://www.xn--h1aaafabldhkbrwa3l4c.xn--
 p1ai/
DTSTAMP:20260419T134213Z
DESCRIPTION:Участие во Всероссийской акции «Ночь в музее» и Открытом музейн
 ом пространстве совместно с ГБУ РК «Крымский этнографический музей».\n- Ки
 номерпориятие «Виртуальное путешествие по музеям мира»\, каталог виртуальн
 ых экскурсий по музеям мира\, список фильмов о музеях.\n- Мастер-класс по 
 созданию анимационного ролика «Ночь в музее» https://www.xn--h1aaafabldhkb
 rwa3l4c.xn--p1ai/meropriyatiya/kalendar-sobytij/event/527-noch-v-muzee
DTSTART;VALUE=DATE:20200518
LOCATION:ГБУ РК 'Крымский киномедиацентр' (г. Симферополь\, ул. Крылова\, 3
 7)
SUMMARY:Ночь в музее» 
URL:https://www.xn--h1aaafabldhkbrwa3l4c.xn--p1ai/meropriyatiya/kalendar-so
 bytij/event/527-noch-v-muzee
END:VEVENT
END:VCALENDAR
