BEGIN:VCALENDAR
VERSION:2.0
PRODID:-//https://www.xn--h1aaafabldhkbrwa3l4c.xn--p1ai///NONSGML kigkonsult.se iCalcreator 2.10.15//
METHOD:PUBLISH
BEGIN:VEVENT
UID:20260419T164022MSK-31558d7Oue@https://www.xn--h1aaafabldhkbrwa3l4c.xn--
 p1ai/
DTSTAMP:20260419T134022Z
DESCRIPTION:'Белоруский вокзал' к дню выхода на экраны фильма Андрея Смирно
 ва\nМатериалы будут размещены на официальном сайте Крымского киномедиацент
 ра https://www.xn--h1aaafabldhkbrwa3l4c.xn--p1ai/meropriyatiya/kalendar-so
 bytij/event/518-beloruskij-vokzal-k-dnyu-vykhoda-na-ekrany-filma-andreya-s
 mirnova
DTSTART:20200430T120000Z
DTEND:20200430T130000Z
LOCATION:ГБУ РК 'Крымский киномедиацентр' (г. Симферополь\, ул. Крылова\, 3
 7)
SUMMARY:'Белоруский вокзал' к дню выхода на экраны фильма Андрея Смирнова
URL:https://www.xn--h1aaafabldhkbrwa3l4c.xn--p1ai/meropriyatiya/kalendar-so
 bytij/event/518-beloruskij-vokzal-k-dnyu-vykhoda-na-ekrany-filma-andreya-s
 mirnova
END:VEVENT
END:VCALENDAR
