BEGIN:VCALENDAR
VERSION:2.0
PRODID:-//https://www.xn--h1aaafabldhkbrwa3l4c.xn--p1ai///NONSGML kigkonsult.se iCalcreator 2.10.15//
METHOD:PUBLISH
BEGIN:VEVENT
UID:20260419T164028MSK-2834uUj7pC@https://www.xn--h1aaafabldhkbrwa3l4c.xn--
 p1ai/
DTSTAMP:20260419T134028Z
DESCRIPTION:'Читальный кинозал. Даниель Дэфо'к 360-летию со дня рождения ан
 глийского писателя и публициста Д.ДэфоМатериалы будут размещены на официал
 ьном сайте Крымского киномедиацентраhttps://www.youtube.com/channel/UCxleN
 uZYfyEUl6qJiKjMTvQАвтор: Богунова Дарья https://www.xn--h1aaafabldhkbrwa3l
 4c.xn--p1ai/meropriyatiya/kalendar-sobytij/event/517-chitalnyj-kinozal-dan
 iel-defo
DTSTART:20200427T120000Z
DTEND:20200427T130000Z
LOCATION:ГБУ РК 'Крымский киномедиацентр' (г. Симферополь\, ул. Крылова\, 3
 7)
SUMMARY:Читальный кинозал. Даниель Дэфо
URL:https://www.xn--h1aaafabldhkbrwa3l4c.xn--p1ai/meropriyatiya/kalendar-so
 bytij/event/517-chitalnyj-kinozal-daniel-defo
END:VEVENT
END:VCALENDAR
