BEGIN:VCALENDAR
VERSION:2.0
PRODID:-//https://www.xn--h1aaafabldhkbrwa3l4c.xn--p1ai///NONSGML kigkonsult.se iCalcreator 2.10.15//
METHOD:PUBLISH
BEGIN:VEVENT
UID:20260419T181024MSK-935879l6BD@https://www.xn--h1aaafabldhkbrwa3l4c.xn--
 p1ai/
DTSTAMP:20260419T151024Z
DESCRIPTION:Мастер-класс «Роль музыки в драматургии фильма»Начало в 15:00ht
 tps://www.youtube.com/channel/UCxleNuZYfyEUl6qJiKjMTvQПроводит: Фоломеева 
 Анна https://www.xn--h1aaafabldhkbrwa3l4c.xn--p1ai/meropriyatiya/kalendar-
 sobytij/event/516-master-klass-rol-muzyki-v-dramaturgii-filma
DTSTART:20200424T120000Z
DTEND:20200424T130000Z
LOCATION:ГБУ РК 'Крымский киномедиацентр' (г. Симферополь\, ул. Крылова\, 3
 7)
SUMMARY:Мастер-класс «Роль музыки в драматургии фильма»
URL:https://www.xn--h1aaafabldhkbrwa3l4c.xn--p1ai/meropriyatiya/kalendar-so
 bytij/event/516-master-klass-rol-muzyki-v-dramaturgii-filma
END:VEVENT
END:VCALENDAR
