BEGIN:VCALENDAR
VERSION:2.0
PRODID:-//https://www.xn--h1aaafabldhkbrwa3l4c.xn--p1ai///NONSGML kigkonsult.se iCalcreator 2.10.15//
METHOD:PUBLISH
BEGIN:VEVENT
UID:20260419T181635MSK-6119PcIfUU@https://www.xn--h1aaafabldhkbrwa3l4c.xn--
 p1ai/
DTSTAMP:20260419T151635Z
DESCRIPTION:Онлайн-лекция 'Александ Птушко - мультипликатор'&nbsp\;приуроче
 нный&nbsp\;к&nbsp\;120-летию со дня рождения&nbsp\;режиссера\, сценариста\
 ,&nbsp\; &nbsp\; &nbsp\; &nbsp\; &nbsp\; &nbsp\; &nbsp\; &nbsp\; &nbsp\; &
 nbsp\;народного артиста СССР&nbsp\;Александра Птушко&nbsp\; &nbsp\; &nbsp\
 ; &nbsp\; &nbsp\; &nbsp\; &nbsp\; &nbsp\; &nbsp\; &nbsp\;Начало в 12:00. Т
 рансляция мероприятия на официальном ютуб-канале Крымского киномедиацентра
 https://www.youtube.com/channel/UCxleNuZYfyEUl6qJiKjMTvQ&nbsp\; &nbsp\; &n
 bsp\; &nbsp\; &nbsp\; &nbsp\; &nbsp\; &nbsp\; &nbsp\; &nbsp\;Проводит: Юре
 вич Ксения https://www.xn--h1aaafabldhkbrwa3l4c.xn--p1ai/meropriyatiya/kal
 endar-sobytij/event/515-onlajn-lektsiya-aleksand-ptushko-multiplikator
DTSTART:20200419T090000Z
DTEND:20200419T100000Z
LOCATION:ГБУ РК 'Крымский киномедиацентр' (г. Симферополь\, ул. Крылова\, 3
 7)
SUMMARY:Онлайн-лекция 'Александ Птушко - мультипликатор' 
URL:https://www.xn--h1aaafabldhkbrwa3l4c.xn--p1ai/meropriyatiya/kalendar-so
 bytij/event/515-onlajn-lektsiya-aleksand-ptushko-multiplikator
END:VEVENT
END:VCALENDAR
