BEGIN:VCALENDAR
VERSION:2.0
PRODID:-//https://www.xn--h1aaafabldhkbrwa3l4c.xn--p1ai///NONSGML kigkonsult.se iCalcreator 2.10.15//
METHOD:PUBLISH
BEGIN:VEVENT
UID:20260419T181554MSK-3589pdp4Fc@https://www.xn--h1aaafabldhkbrwa3l4c.xn--
 p1ai/
DTSTAMP:20260419T151554Z
DESCRIPTION:Онлайн-лекция 'История становления и развития комедийного жанра
  в кино'\,приуроченный к Международному Дню смеха.&nbsp\; &nbsp\; &nbsp\; 
 &nbsp\; &nbsp\; &nbsp\; &nbsp\; &nbsp\; &nbsp\; &nbsp\;Начало в 15:00. Тра
 нсляция мероприятия на официальном канале Крымского киномедиацентраhttps:/
 /www.youtube.com/channel/UCxleNuZYfyEUl6qJiKjMTvQ&nbsp\; &nbsp\; &nbsp\; &
 nbsp\; &nbsp\; &nbsp\; &nbsp\; &nbsp\; &nbsp\; &nbsp\;Проводит: Богунова Д
 арья https://www.xn--h1aaafabldhkbrwa3l4c.xn--p1ai/meropriyatiya/kalendar-
 sobytij/event/505-onlajn-lektsiya-istoriya-stanovleniya-i-razvitiya-komedi
 jnogo-zhanra-v-kino
DTSTART:20200401T120000Z
DTEND:20200401T130000Z
LOCATION:ГБУ РК 'Крымский киномедиацентр' (г. Симферополь\, ул. Крылова\, 3
 7)
SUMMARY:Онлайн-лекция 'История становления и развития комедийного жанра в к
 ино'
URL:https://www.xn--h1aaafabldhkbrwa3l4c.xn--p1ai/meropriyatiya/kalendar-so
 bytij/event/505-onlajn-lektsiya-istoriya-stanovleniya-i-razvitiya-komedijn
 ogo-zhanra-v-kino
END:VEVENT
END:VCALENDAR
