BEGIN:VCALENDAR
VERSION:2.0
PRODID:-//https://www.xn--h1aaafabldhkbrwa3l4c.xn--p1ai///NONSGML kigkonsult.se iCalcreator 2.10.15//
METHOD:PUBLISH
BEGIN:VEVENT
UID:20260424T030257MSK-8800BWHRuk@https://www.xn--h1aaafabldhkbrwa3l4c.xn--
 p1ai/
DTSTAMP:20260424T000257Z
DESCRIPTION:Организация и проведение Республиканского Дня детского кино в р
 амках Дня детского чтения https://www.xn--h1aaafabldhkbrwa3l4c.xn--p1ai/me
 ropriyatiya/kalendar-sobytij/event/379-tematicheskie-kinopokazy-ko-dnyu-de
 tskogo-kino
DTSTART:20190324T105000Z
DTEND:20190330T125000Z
LOCATION:Республика Крым (Крым)
SUMMARY:Тематические кинопоказы ко Дню детского кино
URL:https://www.xn--h1aaafabldhkbrwa3l4c.xn--p1ai/meropriyatiya/kalendar-so
 bytij/event/379-tematicheskie-kinopokazy-ko-dnyu-detskogo-kino
END:VEVENT
BEGIN:VEVENT
UID:20260424T030257MSK-8805fdmVUG@https://www.xn--h1aaafabldhkbrwa3l4c.xn--
 p1ai/
DTSTAMP:20260424T000257Z
DESCRIPTION:В Крымском киномедиацентре (Симферополь и Ялта) будет проводить
 ся игровая-познавательная программа: викторина+кинопоказы фильмов-экраниза
 ций и анимации.&nbsp\; https://www.xn--h1aaafabldhkbrwa3l4c.xn--p1ai/merop
 riyatiya/kalendar-sobytij/event/380-igrovaya-poznavatelnaya-programma-ko-d
 nyu-detskogo-kino-v-ramkakh-dnya-detskogo-chteniya
DTSTART:20190326T105500Z
DTEND:20190327T125500Z
LOCATION:ГБУ РК 'Крымский киномедиацентр' (г. Симферополь\, ул. Крылова\, 3
 7)
SUMMARY:Игровая-познавательная программа ко Дню детского кино в рамках Дня 
 детского чтения 
URL:https://www.xn--h1aaafabldhkbrwa3l4c.xn--p1ai/meropriyatiya/kalendar-so
 bytij/event/380-igrovaya-poznavatelnaya-programma-ko-dnyu-detskogo-kino-v-
 ramkakh-dnya-detskogo-chteniya
END:VEVENT
END:VCALENDAR
