BEGIN:VCALENDAR
VERSION:2.0
PRODID:-//https://www.xn--h1aaafabldhkbrwa3l4c.xn--p1ai///NONSGML kigkonsult.se iCalcreator 2.10.15//
METHOD:PUBLISH
BEGIN:VEVENT
UID:20260424T030650MSK-7140WWuZp7@https://www.xn--h1aaafabldhkbrwa3l4c.xn--
 p1ai/
DTSTAMP:20260424T000650Z
DESCRIPTION:Тематическая кинопрограмма к Международному женскому дню. https
 ://www.xn--h1aaafabldhkbrwa3l4c.xn--p1ai/meropriyatiya/kalendar-sobytij/ev
 ent/375-tematicheskaya-kinoprogramma-k-mezhdunarodnomu-zhenskomu-dnyu
DTSTART:20190306T101400Z
DTEND:20190310T121400Z
LOCATION:Республика Крым (Крым)
SUMMARY:Тематическая кинопрограмма к Международному женскому дню
URL:https://www.xn--h1aaafabldhkbrwa3l4c.xn--p1ai/meropriyatiya/kalendar-so
 bytij/event/375-tematicheskaya-kinoprogramma-k-mezhdunarodnomu-zhenskomu-d
 nyu
END:VEVENT
END:VCALENDAR
