BEGIN:VCALENDAR
VERSION:2.0
PRODID:-//https://www.xn--h1aaafabldhkbrwa3l4c.xn--p1ai///NONSGML kigkonsult.se iCalcreator 2.10.15//
METHOD:PUBLISH
BEGIN:VEVENT
UID:20260424T041246MSK-1545tjvSz3@https://www.xn--h1aaafabldhkbrwa3l4c.xn--
 p1ai/
DTSTAMP:20260424T011246Z
DESCRIPTION:Тематический кинопоказ к Дню защитника Отечества. https://www.x
 n--h1aaafabldhkbrwa3l4c.xn--p1ai/meropriyatiya/kalendar-sobytij/event/372-
 tematicheskij-kinopokaz-k-dnyu-zashchitnika-otechestva
DTSTART:20190218T115100Z
DTEND:20190223T135100Z
LOCATION:Республика Крым (Крым)
SUMMARY:Тематический кинопоказ к Дню защитника Отечества
URL:https://www.xn--h1aaafabldhkbrwa3l4c.xn--p1ai/meropriyatiya/kalendar-so
 bytij/event/372-tematicheskij-kinopokaz-k-dnyu-zashchitnika-otechestva
END:VEVENT
END:VCALENDAR
