BEGIN:VCALENDAR
VERSION:2.0
PRODID:-//https://www.xn--h1aaafabldhkbrwa3l4c.xn--p1ai///NONSGML kigkonsult.se iCalcreator 2.10.15//
METHOD:PUBLISH
BEGIN:VEVENT
UID:20260419T212238MSK-2793jh0olv@https://www.xn--h1aaafabldhkbrwa3l4c.xn--
 p1ai/
DTSTAMP:20260419T182238Z
DESCRIPTION:Тематический кинопоказ к Дню защитника Отечества.\nСотрудники у
 чреждения подготовят и разошлют программу игровых и документальных фильмов
  для демонстрации в учреждениях культуры и образовательных организациях (к
 иноклубах) Республики Крым. https://www.xn--h1aaafabldhkbrwa3l4c.xn--p1ai/
 meropriyatiya/kalendar-sobytij/event/491-tematicheskij-kinopokaz-k-dnyu-za
 shchitnika-otechestva
DTSTART:20200218T064800Z
DTEND:20200223T084800Z
LOCATION:Республика Крым (Крым)
SUMMARY:Тематический кинопоказ к Дню защитника Отечества
URL:https://www.xn--h1aaafabldhkbrwa3l4c.xn--p1ai/meropriyatiya/kalendar-so
 bytij/event/491-tematicheskij-kinopokaz-k-dnyu-zashchitnika-otechestva
END:VEVENT
BEGIN:VEVENT
UID:20260419T212238MSK-2796aUoXZe@https://www.xn--h1aaafabldhkbrwa3l4c.xn--
 p1ai/
DTSTAMP:20260419T182238Z
DESCRIPTION:Кинолекторий «Кинематограф ХХ века. Сюрреализм». К 120-летию со
  дня рождения Луиса Бунюэля. https://www.xn--h1aaafabldhkbrwa3l4c.xn--p1ai
 /meropriyatiya/kalendar-sobytij/event/494-kinolektorij-kinematograf-khkh-v
 eka-syurrealizm
DTSTART:20200220T150000Z
DTEND:20200220T163000Z
LOCATION:ГБУ РК 'Крымский киномедиацентр' (г. Симферополь\, ул. Крылова\, 3
 7)
SUMMARY:Кинолекторий «Кинематограф ХХ века. Сюрреализм»
URL:https://www.xn--h1aaafabldhkbrwa3l4c.xn--p1ai/meropriyatiya/kalendar-so
 bytij/event/494-kinolektorij-kinematograf-khkh-veka-syurrealizm
END:VEVENT
BEGIN:VEVENT
UID:20260419T212238MSK-2797T59knP@https://www.xn--h1aaafabldhkbrwa3l4c.xn--
 p1ai/
DTSTAMP:20260419T182238Z
DESCRIPTION:В рамках проекта 'Мобильная информационная площадка' проводится
  комплексное мероприятие в г. Ялта https://www.xn--h1aaafabldhkbrwa3l4c.xn
 --p1ai/meropriyatiya/kalendar-sobytij/event/503-kompleksnoe-kinomeropriyat
 ie
DTSTART:20200220T100000Z
DTEND:20200220T120000Z
LOCATION:г. Ялта\, МБОУ 'Ялтинская средняя школа №10' (Советская пл.\, 1\, 
 Ялта)
SUMMARY:Комплексное киномероприятие
URL:https://www.xn--h1aaafabldhkbrwa3l4c.xn--p1ai/meropriyatiya/kalendar-so
 bytij/event/503-kompleksnoe-kinomeropriyatie
END:VEVENT
END:VCALENDAR
