BEGIN:VCALENDAR
VERSION:2.0
PRODID:-//https://www.xn--h1aaafabldhkbrwa3l4c.xn--p1ai///NONSGML kigkonsult.se iCalcreator 2.10.15//
METHOD:PUBLISH
BEGIN:VEVENT
UID:20260419T212356MSK-43780SVFLz@https://www.xn--h1aaafabldhkbrwa3l4c.xn--
 p1ai/
DTSTAMP:20260419T182356Z
DESCRIPTION:Тематический кинопоказ к Дню защитника Отечества.\nСотрудники у
 чреждения подготовят и разошлют программу игровых и документальных фильмов
  для демонстрации в учреждениях культуры и образовательных организациях (к
 иноклубах) Республики Крым. https://www.xn--h1aaafabldhkbrwa3l4c.xn--p1ai/
 meropriyatiya/kalendar-sobytij/event/491-tematicheskij-kinopokaz-k-dnyu-za
 shchitnika-otechestva
DTSTART:20200218T064800Z
DTEND:20200223T084800Z
LOCATION:Республика Крым (Крым)
SUMMARY:Тематический кинопоказ к Дню защитника Отечества
URL:https://www.xn--h1aaafabldhkbrwa3l4c.xn--p1ai/meropriyatiya/kalendar-so
 bytij/event/491-tematicheskij-kinopokaz-k-dnyu-zashchitnika-otechestva
END:VEVENT
BEGIN:VEVENT
UID:20260419T212356MSK-4383vwaTuO@https://www.xn--h1aaafabldhkbrwa3l4c.xn--
 p1ai/
DTSTAMP:20260419T182356Z
DESCRIPTION:Мастер-класс по сценарному мастерству. Проводится на кафедре ку
 льтурологии Философского факультета по адресу: г. Симферополь\, проспект В
 ернадского\, 20. Начало в 14.30 https://www.xn--h1aaafabldhkbrwa3l4c.xn--p
 1ai/meropriyatiya/kalendar-sobytij/event/492-master-klass-po-stsenarnomu-m
 asterstvu
DTSTART:20200219T103000Z
DTEND:20200219T123000Z
LOCATION:КФУ 'Свечка' (просп. Вернадского\, 20\, Симферополь)
SUMMARY:Мастер-класс по сценарному мастерству
URL:https://www.xn--h1aaafabldhkbrwa3l4c.xn--p1ai/meropriyatiya/kalendar-so
 bytij/event/492-master-klass-po-stsenarnomu-masterstvu
END:VEVENT
END:VCALENDAR
