BEGIN:VCALENDAR
VERSION:2.0
PRODID:-//https://www.xn--h1aaafabldhkbrwa3l4c.xn--p1ai///NONSGML kigkonsult.se iCalcreator 2.10.15//
METHOD:PUBLISH
BEGIN:VEVENT
UID:20260424T041332MSK-9057vKvf60@https://www.xn--h1aaafabldhkbrwa3l4c.xn--
 p1ai/
DTSTAMP:20260424T011332Z
DESCRIPTION:Семинар-тренинг для учителей крымских общеобразовательных школ 
 по кинообразованию и медиапедагогике «Практическое кино- и медиаобразовани
 е. Работа с фильмом в киноклубе. Школьное телевидение». https://www.xn--h1
 aaafabldhkbrwa3l4c.xn--p1ai/meropriyatiya/kalendar-sobytij/event/371-semin
 ar-trening-dlya-uchitelej-krymskikh-obshcheobrazovatelnykh-shkol-po-kinoob
 razovaniyu-i-mediapedagogike
DTSTART:20190216T114900Z
DTEND:20190216T134900Z
LOCATION:ГБУ РК 'Крымский киномедиацентр' (г. Симферополь\, ул. Крылова\, 3
 7)
SUMMARY:Семинар-тренинг для учителей крымских общеобразовательных школ по к
 инообразованию и медиапедагогике
URL:https://www.xn--h1aaafabldhkbrwa3l4c.xn--p1ai/meropriyatiya/kalendar-so
 bytij/event/371-seminar-trening-dlya-uchitelej-krymskikh-obshcheobrazovate
 lnykh-shkol-po-kinoobrazovaniyu-i-mediapedagogike
END:VEVENT
END:VCALENDAR
