BEGIN:VCALENDAR
VERSION:2.0
PRODID:-//https://www.xn--h1aaafabldhkbrwa3l4c.xn--p1ai///NONSGML kigkonsult.se iCalcreator 2.10.15//
METHOD:PUBLISH
BEGIN:VEVENT
UID:20260424T041913MSK-0076luUUKk@https://www.xn--h1aaafabldhkbrwa3l4c.xn--
 p1ai/
DTSTAMP:20260424T011913Z
DESCRIPTION:Тематическая кинопрограмма ко Дню памяти о россиянах\, исполняв
 ших служебный долг за пределами Отечества (15 февраля) https://www.xn--h1a
 aafabldhkbrwa3l4c.xn--p1ai/meropriyatiya/kalendar-sobytij/event/370-temati
 cheskaya-kinoprogramma-ko-dnyu-pamyati-o-rossiyanakh-ispolnyavshikh-sluzhe
 bnyj-dolg-za-predelami-otechestva
DTSTART:20190214T114600Z
DTEND:20190215T134600Z
LOCATION:Республика Крым (Крым)
SUMMARY:•	Тематическая кинопрограмма ко Дню памяти о россиянах\, исполнявши
 х служебный долг за пределами Отечества
URL:https://www.xn--h1aaafabldhkbrwa3l4c.xn--p1ai/meropriyatiya/kalendar-so
 bytij/event/370-tematicheskaya-kinoprogramma-ko-dnyu-pamyati-o-rossiyanakh
 -ispolnyavshikh-sluzhebnyj-dolg-za-predelami-otechestva
END:VEVENT
END:VCALENDAR
