BEGIN:VCALENDAR
VERSION:2.0
PRODID:-//https://www.xn--h1aaafabldhkbrwa3l4c.xn--p1ai///NONSGML kigkonsult.se iCalcreator 2.10.15//
METHOD:PUBLISH
BEGIN:VEVENT
UID:20260419T212353MSK-9939seJ123@https://www.xn--h1aaafabldhkbrwa3l4c.xn--
 p1ai/
DTSTAMP:20260419T182353Z
DESCRIPTION:Тематический показ фильмов-экранизаций по произведениям А.С. Пу
 шкина\, посвященный Дню памяти поэта (10 февраля).\nСотрудники учреждения 
 подготовят и разошлют программу фильмов-экранизаций для демонстрации ее в 
 учреждениях культуры и образовательных организациях (киноклубах) Республик
 и Крым. https://www.xn--h1aaafabldhkbrwa3l4c.xn--p1ai/meropriyatiya/kalend
 ar-sobytij/event/487-tematicheskij-pokaz-filmov-ekranizatsij-po-proizveden
 iyam-a-s-pushkina
DTSTART:20200210T061800Z
DTEND:20200216T081800Z
LOCATION:Республика Крым (Крым)
SUMMARY:Тематический показ фильмов-экранизаций по произведениям А.С. Пушкин
 а
URL:https://www.xn--h1aaafabldhkbrwa3l4c.xn--p1ai/meropriyatiya/kalendar-so
 bytij/event/487-tematicheskij-pokaz-filmov-ekranizatsij-po-proizvedeniyam-
 a-s-pushkina
END:VEVENT
END:VCALENDAR
