BEGIN:VCALENDAR
VERSION:2.0
PRODID:-//https://www.xn--h1aaafabldhkbrwa3l4c.xn--p1ai///NONSGML kigkonsult.se iCalcreator 2.10.15//
METHOD:PUBLISH
BEGIN:VEVENT
UID:20260419T231037MSK-6549NvUvKw@https://www.xn--h1aaafabldhkbrwa3l4c.xn--
 p1ai/
DTSTAMP:20260419T201037Z
DESCRIPTION:Тематический кинопоказ к Дню защитника Отечества.\nСотрудники у
 чреждения подготовят и разошлют программу игровых и документальных фильмов
  для демонстрации в учреждениях культуры и образовательных организациях (к
 иноклубах) Республики Крым. https://www.xn--h1aaafabldhkbrwa3l4c.xn--p1ai/
 meropriyatiya/kalendar-sobytij/event/490-tematicheskij-kinopokaz-k-dnyu-za
 shchitnika-otechestva
DTSTART:20200118T064300Z
DTEND:20200123T084300Z
LOCATION:Республика Крым (Крым)
SUMMARY:Тематический кинопоказ к Дню защитника Отечества
URL:https://www.xn--h1aaafabldhkbrwa3l4c.xn--p1ai/meropriyatiya/kalendar-so
 bytij/event/490-tematicheskij-kinopokaz-k-dnyu-zashchitnika-otechestva
END:VEVENT
END:VCALENDAR
