BEGIN:VCALENDAR
VERSION:2.0
PRODID:-//https://www.xn--h1aaafabldhkbrwa3l4c.xn--p1ai///NONSGML kigkonsult.se iCalcreator 2.10.15//
METHOD:PUBLISH
BEGIN:VEVENT
UID:20260424T053809MSK-1330J6PULi@https://www.xn--h1aaafabldhkbrwa3l4c.xn--
 p1ai/
DTSTAMP:20260424T023809Z
DESCRIPTION:Тематическая кинопрограмма «Мой Крым\, моя родная земля» к Дню 
 Республики Крым&nbsp\; https://www.xn--h1aaafabldhkbrwa3l4c.xn--p1ai/merop
 riyatiya/kalendar-sobytij/event/358-tematicheskaya-kinoprogramma-moj-krym-
 moya-rodnaya-zemlya
DTSTART:20190115T104200Z
DTEND:20190120T124200Z
LOCATION:Республика Крым (Крым)
SUMMARY:Тематическая кинопрограмма «Мой Крым\, моя родная земля» 
URL:https://www.xn--h1aaafabldhkbrwa3l4c.xn--p1ai/meropriyatiya/kalendar-so
 bytij/event/358-tematicheskaya-kinoprogramma-moj-krym-moya-rodnaya-zemlya
END:VEVENT
END:VCALENDAR
