BEGIN:VCALENDAR
VERSION:2.0
PRODID:-//https://www.xn--h1aaafabldhkbrwa3l4c.xn--p1ai///NONSGML kigkonsult.se iCalcreator 2.10.15//
METHOD:PUBLISH
BEGIN:VEVENT
UID:20260419T231006MSK-6917SwMOJx@https://www.xn--h1aaafabldhkbrwa3l4c.xn--
 p1ai/
DTSTAMP:20260419T201006Z
DESCRIPTION:Мастер-класс&nbsp\;методиста КМЦ Фоломеевой А.М. по созданию ви
 деофильмов в&nbsp\;МАН «Искатель»\, г. Симферополь\n(по предварительной за
 писи: anyafolomeeva@yandex.ru) https://www.xn--h1aaafabldhkbrwa3l4c.xn--p1
 ai/meropriyatiya/kalendar-sobytij/event/483-master-klass-po-sozdaniyu-vide
 ofilmov-po-predvaritelnoj-zapisi
DTSTART:20200114T080000Z
DTEND:20200114T111500Z
LOCATION:МАН «Искатель» (г. Симферополь\, ул. Гоголя\, 26)
SUMMARY:Мастер-класс по созданию видеофильмов (по предварительной записи)
URL:https://www.xn--h1aaafabldhkbrwa3l4c.xn--p1ai/meropriyatiya/kalendar-so
 bytij/event/483-master-klass-po-sozdaniyu-videofilmov-po-predvaritelnoj-za
 pisi
END:VEVENT
END:VCALENDAR
