BEGIN:VCALENDAR
VERSION:2.0
PRODID:-//https://www.xn--h1aaafabldhkbrwa3l4c.xn--p1ai///NONSGML kigkonsult.se iCalcreator 2.10.15//
METHOD:PUBLISH
BEGIN:VEVENT
UID:20260419T231134MSK-0035fpP0oR@https://www.xn--h1aaafabldhkbrwa3l4c.xn--
 p1ai/
DTSTAMP:20260419T201134Z
DESCRIPTION:Проведение семинара-тренинга «Практическое кино- и медиаобразов
 ание. Учимся работать с фильмами в киноклубе и в досуговой деятельности» д
 ля педагогов\, библиотекарей и методистов ЦКС. https://www.xn--h1aaafabldh
 kbrwa3l4c.xn--p1ai/meropriyatiya/kalendar-sobytij/event/481-seminar-trenin
 g-prakticheskoe-kino-i-mediaobrazovanie-uchimsya-rabotat-s-filmami-v-kinok
 lube-i-v-dosugovoj-deyatelnosti-dlya-pedagogov-bibliotekarej-i-metodistov-
 tsks
DTSTART:20200109T113000Z
DTEND:20200109T133000Z
LOCATION:МБОУ «Ялтинская средняя школа № 12 с углубленным изучением иностра
 нных языков»  (ул. Гоголя\, 8/1\, Ялта)
SUMMARY:Семинар-тренинг «Практическое кино- и медиаобразование. Учимся рабо
 тать с фильмами в киноклубе и в досуговой деятельности» для педагогов\, би
 блиотекарей и методистов ЦКС.
URL:https://www.xn--h1aaafabldhkbrwa3l4c.xn--p1ai/meropriyatiya/kalendar-so
 bytij/event/481-seminar-trening-prakticheskoe-kino-i-mediaobrazovanie-uchi
 msya-rabotat-s-filmami-v-kinoklube-i-v-dosugovoj-deyatelnosti-dlya-pedagog
 ov-bibliotekarej-i-metodistov-tsks
END:VEVENT
END:VCALENDAR
